﻿BEGIN:VCALENDAR
VERSION:2.0
PRODID:-//eventon.com NONSGML v1.0//EN
BEGIN:VEVENT
UID:69e8858d5cce2
DTSTAMP:20260422T102341
DTSTART:20230327T220000Z
DTEND:20230328T215900Z
LOCATION:Lyon Lyon
SUMMARY:Journée d’actualisation des connaissances pour les diplômés du DU à LYON
DESCRIPTION: Journée d’actualisation des connaissances pour les diplômés du DU à LYON
END:VEVENT
END:VCALENDAR