﻿BEGIN:VCALENDAR
VERSION:2.0
PRODID:-//eventon.com NONSGML v1.0//EN
BEGIN:VEVENT
UID:69eb7896b75db
DTSTAMP:20260424T160510
DTSTART:20251204T070000Z
DTEND:20251204T153000Z
LOCATION:
SUMMARY:5ème JPNI – Les 10 ans de pratique du règlement européen sur les successions internationales
DESCRIPTION: La cinquième journée de la pratique notariale internationale\,  organisée par l’ACENODE et le CREDIP-EDIEC sur le thème "Les 10 ans de pratique du règlement européen sur les successions internationales" aura lieu le 4 Décembre 2025 de 09h00 à 17h30 Lieu: Amphithéâtre HUVELIN Université Jean Moulin Lyon 3 Palais de l’Université[..]
END:VEVENT
END:VCALENDAR